BEGIN:VCALENDAR
VERSION:2.0
PRODID:-//NeoLife Focus - ECPv6.15.20//NONSGML v1.0//EN
CALSCALE:GREGORIAN
METHOD:PUBLISH
X-WR-CALNAME:NeoLife Focus
X-ORIGINAL-URL:https://focus.neolife.com/sv/
X-WR-CALDESC:Händelser för NeoLife Focus
REFRESH-INTERVAL;VALUE=DURATION:PT1H
X-Robots-Tag:noindex
X-PUBLISHED-TTL:PT1H
BEGIN:VTIMEZONE
TZID:Europe/Stockholm
BEGIN:DAYLIGHT
TZOFFSETFROM:+0100
TZOFFSETTO:+0200
TZNAME:CEST
DTSTART:20250330T010000
END:DAYLIGHT
BEGIN:STANDARD
TZOFFSETFROM:+0200
TZOFFSETTO:+0100
TZNAME:CET
DTSTART:20251026T010000
END:STANDARD
BEGIN:DAYLIGHT
TZOFFSETFROM:+0100
TZOFFSETTO:+0200
TZNAME:CEST
DTSTART:20260329T010000
END:DAYLIGHT
BEGIN:STANDARD
TZOFFSETFROM:+0200
TZOFFSETTO:+0100
TZNAME:CET
DTSTART:20261025T010000
END:STANDARD
BEGIN:DAYLIGHT
TZOFFSETFROM:+0100
TZOFFSETTO:+0200
TZNAME:CEST
DTSTART:20270328T010000
END:DAYLIGHT
BEGIN:STANDARD
TZOFFSETFROM:+0200
TZOFFSETTO:+0100
TZNAME:CET
DTSTART:20271031T010000
END:STANDARD
END:VTIMEZONE
BEGIN:VEVENT
DTSTART;TZID=Europe/Stockholm:20260423T180000
DTEND;TZID=Europe/Stockholm:20260423T200000
DTSTAMP:20260423T033828
CREATED:20260422T074837Z
LAST-MODIFIED:20260422T074837Z
UID:10004392-1776967200-1776974400@focus.neolife.com
SUMMARY:Kvinnors hälsa under klimakteriet och Discover NeoLife
DESCRIPTION:Välkommen till samtal om kvinnors hälsa under klimakteriet och upptäck hur NeoLife kan hjälpa dig till ett bättre välmående både kroppsligen och finansiellt. \n  \nDu kommer höra Thomas Henningsson introducera ämnena och leda kvällens träff\, och även höra de från återförsäljare om de positiva erfarenheter de haft med NeoLife för att få ett bättre välmående.
URL:https://focus.neolife.com/sv/calendar/kvinnors-halsa-under-klimakteriet-och-discover-neolife/
LOCATION:NeoLife-kontoret Hulda Mellgrens Gata 3\, 421 32 Västra Frölunda\, Hulda Mellgrens Gata 3\, Västra Frölunda\, Sweden
CATEGORIES:Sweden
END:VEVENT
END:VCALENDAR