BEGIN:VCALENDAR
VERSION:2.0
PRODID:-//NeoLife Focus - ECPv6.15.20//NONSGML v1.0//EN
CALSCALE:GREGORIAN
METHOD:PUBLISH
X-WR-CALNAME:NeoLife Focus
X-ORIGINAL-URL:https://focus.neolife.com
X-WR-CALDESC:Events for NeoLife Focus
REFRESH-INTERVAL;VALUE=DURATION:PT1H
X-Robots-Tag:noindex
X-PUBLISHED-TTL:PT1H
BEGIN:VTIMEZONE
TZID:Europe/Sarajevo
BEGIN:DAYLIGHT
TZOFFSETFROM:+0100
TZOFFSETTO:+0200
TZNAME:CEST
DTSTART:20250330T010000
END:DAYLIGHT
BEGIN:STANDARD
TZOFFSETFROM:+0200
TZOFFSETTO:+0100
TZNAME:CET
DTSTART:20251026T010000
END:STANDARD
BEGIN:DAYLIGHT
TZOFFSETFROM:+0100
TZOFFSETTO:+0200
TZNAME:CEST
DTSTART:20260329T010000
END:DAYLIGHT
BEGIN:STANDARD
TZOFFSETFROM:+0200
TZOFFSETTO:+0100
TZNAME:CET
DTSTART:20261025T010000
END:STANDARD
BEGIN:DAYLIGHT
TZOFFSETFROM:+0100
TZOFFSETTO:+0200
TZNAME:CEST
DTSTART:20270328T010000
END:DAYLIGHT
BEGIN:STANDARD
TZOFFSETFROM:+0200
TZOFFSETTO:+0100
TZNAME:CET
DTSTART:20271031T010000
END:STANDARD
END:VTIMEZONE
BEGIN:VTIMEZONE
TZID:Europe/Zagreb
BEGIN:DAYLIGHT
TZOFFSETFROM:+0100
TZOFFSETTO:+0200
TZNAME:CEST
DTSTART:20250330T010000
END:DAYLIGHT
BEGIN:STANDARD
TZOFFSETFROM:+0200
TZOFFSETTO:+0100
TZNAME:CET
DTSTART:20251026T010000
END:STANDARD
BEGIN:DAYLIGHT
TZOFFSETFROM:+0100
TZOFFSETTO:+0200
TZNAME:CEST
DTSTART:20260329T010000
END:DAYLIGHT
BEGIN:STANDARD
TZOFFSETFROM:+0200
TZOFFSETTO:+0100
TZNAME:CET
DTSTART:20261025T010000
END:STANDARD
BEGIN:DAYLIGHT
TZOFFSETFROM:+0100
TZOFFSETTO:+0200
TZNAME:CEST
DTSTART:20270328T010000
END:DAYLIGHT
BEGIN:STANDARD
TZOFFSETFROM:+0200
TZOFFSETTO:+0100
TZNAME:CET
DTSTART:20271031T010000
END:STANDARD
END:VTIMEZONE
BEGIN:VTIMEZONE
TZID:Europe/Ljubljana
BEGIN:DAYLIGHT
TZOFFSETFROM:+0100
TZOFFSETTO:+0200
TZNAME:CEST
DTSTART:20250330T010000
END:DAYLIGHT
BEGIN:STANDARD
TZOFFSETFROM:+0200
TZOFFSETTO:+0100
TZNAME:CET
DTSTART:20251026T010000
END:STANDARD
BEGIN:DAYLIGHT
TZOFFSETFROM:+0100
TZOFFSETTO:+0200
TZNAME:CEST
DTSTART:20260329T010000
END:DAYLIGHT
BEGIN:STANDARD
TZOFFSETFROM:+0200
TZOFFSETTO:+0100
TZNAME:CET
DTSTART:20261025T010000
END:STANDARD
BEGIN:DAYLIGHT
TZOFFSETFROM:+0100
TZOFFSETTO:+0200
TZNAME:CEST
DTSTART:20270328T010000
END:DAYLIGHT
BEGIN:STANDARD
TZOFFSETFROM:+0200
TZOFFSETTO:+0100
TZNAME:CET
DTSTART:20271031T010000
END:STANDARD
END:VTIMEZONE
BEGIN:VTIMEZONE
TZID:Europe/Rome
BEGIN:DAYLIGHT
TZOFFSETFROM:+0100
TZOFFSETTO:+0200
TZNAME:CEST
DTSTART:20250330T010000
END:DAYLIGHT
BEGIN:STANDARD
TZOFFSETFROM:+0200
TZOFFSETTO:+0100
TZNAME:CET
DTSTART:20251026T010000
END:STANDARD
BEGIN:DAYLIGHT
TZOFFSETFROM:+0100
TZOFFSETTO:+0200
TZNAME:CEST
DTSTART:20260329T010000
END:DAYLIGHT
BEGIN:STANDARD
TZOFFSETFROM:+0200
TZOFFSETTO:+0100
TZNAME:CET
DTSTART:20261025T010000
END:STANDARD
BEGIN:DAYLIGHT
TZOFFSETFROM:+0100
TZOFFSETTO:+0200
TZNAME:CEST
DTSTART:20270328T010000
END:DAYLIGHT
BEGIN:STANDARD
TZOFFSETFROM:+0200
TZOFFSETTO:+0100
TZNAME:CET
DTSTART:20271031T010000
END:STANDARD
END:VTIMEZONE
BEGIN:VEVENT
DTSTART;TZID=Europe/Sarajevo:20260416T190000
DTEND;TZID=Europe/Sarajevo:20260416T210000
DTSTAMP:20260422T014521
CREATED:20260327T131614Z
LAST-MODIFIED:20260409T081424Z
UID:10004291-1776366000-1776373200@focus.neolife.com
SUMMARY:Business School with Ashley Peebles - Sarajevo\, Bosnia-Herzegovina
DESCRIPTION:APRIL 2026: ASHLEY PEEBLES\, Vice President of Sales for NeoLife North America\, returns to Europe with a fantastic lineup of events: innovative and exciting business schools dedicated to all members\, offering new insights\, discussions\, and\, above all\, targeted training to help you focus on growth. With over fifteen years of experience in the world of direct sales\, Ashley is both an experienced and dynamic leader. We will be delighted to meet her and embrace her vision for growth. \nParticipation in the event is open to all Members: use the event to engage your group in sponsoring\, growth\, and\, of course\, high attendance. \n14 LJUBLJANA\n15 ZAGREB\n16 SARAJEVO\, Bosmal Arjaan by Rotana\, Milana Preloga 12 A\,71000\, 19:00 \nAn online webinar for NeoLife Romania Members is also scheduled. \nDON’T MISS THIS IMPORTANT MEETING!
URL:https://focus.neolife.com/calendar/business-school-with-ashley-peebles-6/
LOCATION:Bosmal Arjaan by Rotana\, Milana Preloga 12 A\, Sarajevo\, 71000\, Bosnia and Herzegovina
CATEGORIES:Bosnia and Herzegovina,Southeastern Europe
ATTACH;FMTTYPE=image/png:https://focus.neolife.com/wp-content/uploads/2026/03/2026-04-Ashley-Peebles_HR.png
END:VEVENT
BEGIN:VEVENT
DTSTART;TZID=Europe/Zagreb:20260415T190000
DTEND;TZID=Europe/Zagreb:20260415T210000
DTSTAMP:20260422T014521
CREATED:20260327T131024Z
LAST-MODIFIED:20260409T081457Z
UID:10004289-1776279600-1776286800@focus.neolife.com
SUMMARY:Business School with Ashley Peebles - Zagreb\, Croatia
DESCRIPTION:APRIL 2026: ASHLEY PEEBLES\, Vice President of Sales for NeoLife North America\, returns to Europe with a fantastic lineup of events: innovative and exciting business schools dedicated to all members\, offering new insights\, discussions\, and\, above all\, targeted training to help you focus on growth. With over fifteen years of experience in the world of direct sales\, Ashley is both an experienced and dynamic leader. We will be delighted to meet her and embrace her vision for growth. \nParticipation in the event is open to all Members: use the event to engage your group in sponsoring\, growth\, and\, of course\, high attendance. \n14 LJUBLJANA\n15 ZAGREB\, HOTEL ANTUNOVIĆ\, 7 PM\n16 SARAJEVO \nAn online webinar for NeoLife Romania Members is also scheduled. \nDON’T MISS THIS IMPORTANT MEETING!
URL:https://focus.neolife.com/calendar/business-school-with-ashley-peebles-5/
LOCATION:Hotel Antunović Zagreb\, Zagrebačka avenija 100a\, Zagreb\, 10090\, Croatia (Local Name: Hrvatska)
CATEGORIES:Croatia,Southeastern Europe
ATTACH;FMTTYPE=image/png:https://focus.neolife.com/wp-content/uploads/2026/03/2026-04-Ashley-Peebles_HR.png
END:VEVENT
BEGIN:VEVENT
DTSTART;TZID=Europe/Ljubljana:20260414T190000
DTEND;TZID=Europe/Ljubljana:20260414T210000
DTSTAMP:20260422T014521
CREATED:20260324T135017Z
LAST-MODIFIED:20260409T081636Z
UID:10004261-1776193200-1776200400@focus.neolife.com
SUMMARY:Business School with Ashley Peebles - Ljubljana\, Slovenia
DESCRIPTION:APRIL 2026: ASHLEY PEEBLES\, Vice President of Field Development at NeoLife North America\, is returning to Europe for a series of meetings.\nThe innovative and inspiring Business School events are designed for all Members: the latest updates\, discussions\, and\, above all\, targeted training to support your growth. \nWith nearly fifteen years of experience in direct sales\, Ashley is a true leader: not only experienced\, but also dynamic and always active.\nWe look forward to meeting her and hearing her vision for growth. \nParticipation in the event will be open to all Members\, without any of the qualifications that were announced in February. \nAPRIL 14. LJUBLJANA\nRadisson Blu hotel\nat 19:00 CET
URL:https://focus.neolife.com/calendar/business-school-with-ashley-peebles-2/
LOCATION:Radisson Blu Plaza Hotel Ljubljana\, Bratislavska cesta 8\,\, Ljubljana\, 1000\, Slovenia
CATEGORIES:Slovenia,Southeastern Europe
ATTACH;FMTTYPE=image/jpeg:https://focus.neolife.com/wp-content/uploads/2026/03/2026-04-Business-School_SI.jpg
END:VEVENT
BEGIN:VEVENT
DTSTART;TZID=Europe/Rome:20260409T190000
DTEND;TZID=Europe/Rome:20260409T203000
DTSTAMP:20260422T014521
CREATED:20260409T122648Z
LAST-MODIFIED:20260409T175045Z
UID:10004365-1775761200-1775766600@focus.neolife.com
SUMMARY:NeoLife Monthly Distributor Rally - Bosnia-H.\, Croatia\, Hungary\, Italy\, Romania\, Slovenia
DESCRIPTION:Stay informed\, inspired\, and energized with our NeoLife Monthly Distributor Rally—your essential update for everything happening across the NeoLife world.\nThis dynamic monthly webinar brings together the NeoLife community to celebrate achievements\, share powerful stories\, and equip you with the knowledge you need to grow your business. Join us for an engaging session featuring: \n\nRecognition of outstanding Distributor achievements\nInspiring success stories from leaders and rising stars\nCurrent incentives and promotions\nUpcoming events and key dates you won’t want to miss\n\nWhether you’re new to the business or a long-time Leader\, this session delivers the insights and motivation you need to stay connected and up to date with your NeoLife journey. \nWe look forward to seeing you there! \n📅 Date: Thursday\, April 9\n⏰ Time: 19:00 CET\n🔗 Join Zoom: https://us02web.zoom.us/j/85112562962
URL:https://focus.neolife.com/calendar/neolife-monthly-distributor-rally-bosnia-h-croatia-hungary-italy-romania-slovenia/
CATEGORIES:Bosnia and Herzegovina,Croatia,Hungary,Italy,Romania,Slovenia,Southeastern Europe,Southern Europe
ATTACH;FMTTYPE=image/jpeg:https://focus.neolife.com/wp-content/uploads/2026/04/Monthly-Distributor-Rally-SE.jpg
LOCATION:https://focus.neolife.com/calendar/neolife-monthly-distributor-rally-bosnia-h-croatia-hungary-italy-romania-slovenia/
END:VEVENT
END:VCALENDAR