BEGIN:VCALENDAR
VERSION:2.0
PRODID:-//NeoLife Focus - ECPv6.15.20//NONSGML v1.0//EN
CALSCALE:GREGORIAN
METHOD:PUBLISH
X-WR-CALNAME:NeoLife Focus
X-ORIGINAL-URL:https://focus.neolife.com
X-WR-CALDESC:Events for NeoLife Focus
REFRESH-INTERVAL;VALUE=DURATION:PT1H
X-Robots-Tag:noindex
X-PUBLISHED-TTL:PT1H
BEGIN:VTIMEZONE
TZID:America/Los_Angeles
BEGIN:DAYLIGHT
TZOFFSETFROM:-0800
TZOFFSETTO:-0700
TZNAME:PDT
DTSTART:20250309T100000
END:DAYLIGHT
BEGIN:STANDARD
TZOFFSETFROM:-0700
TZOFFSETTO:-0800
TZNAME:PST
DTSTART:20251102T090000
END:STANDARD
BEGIN:DAYLIGHT
TZOFFSETFROM:-0800
TZOFFSETTO:-0700
TZNAME:PDT
DTSTART:20260308T100000
END:DAYLIGHT
BEGIN:STANDARD
TZOFFSETFROM:-0700
TZOFFSETTO:-0800
TZNAME:PST
DTSTART:20261101T090000
END:STANDARD
BEGIN:DAYLIGHT
TZOFFSETFROM:-0800
TZOFFSETTO:-0700
TZNAME:PDT
DTSTART:20270314T100000
END:DAYLIGHT
BEGIN:STANDARD
TZOFFSETFROM:-0700
TZOFFSETTO:-0800
TZNAME:PST
DTSTART:20271107T090000
END:STANDARD
END:VTIMEZONE
BEGIN:VEVENT
DTSTART;VALUE=DATE:20261102
DTEND;VALUE=DATE:20261103
DTSTAMP:20260420T084004
CREATED:20260128T222358Z
LAST-MODIFIED:20260206T174229Z
UID:10004248-1793577600-1793663999@focus.neolife.com
SUMMARY:October Month End Close Day
DESCRIPTION:Please note the official close date for the October sales month is November 2\, 2026. \nPlease be sure your orders\, new sign-ups\, and/or adjustments are completed by end of day. Sales Support is open until 8pm PST on this day for those who wish to place orders over the phone. Note that new sign-ups placed after Month End Close Day will be processed in the following calendar month. \nView full details of  View Month-End Procedures for US/CA.
URL:https://focus.neolife.com/calendar/october-month-end-close-day/
CATEGORIES:Canada,United States
END:VEVENT
BEGIN:VEVENT
DTSTART;TZID=America/Los_Angeles:20261102T090000
DTEND;TZID=America/Los_Angeles:20261102T090000
DTSTAMP:20260420T084004
CREATED:20260302T175308Z
LAST-MODIFIED:20260302T181806Z
UID:10003373-1793610000-1793610000@focus.neolife.com
SUMMARY:Leadership LIVE
DESCRIPTION:Join us each Monday for Leadership Live with Ashley Peebles\, VP of Field Development\, where we’ll provide company updates and trainings to help you maximize your success with NeoLife! \nMondays at 9am PT / 12pm ET \nZoom Meeting ID: 844 6554 3445 \nClick here to join: https://us02web.zoom.us/j/84465543445 Passcode: neolife58! \nSign up for SMS Updates by texting “Monday” to 1-833-367-6111* \n*(Standard text message and data rates may apply).
URL:https://focus.neolife.com/calendar/leadership-live-north-america-2/2026-11-02/
CATEGORIES:Canada,North America,Recurring,United States
ATTACH;FMTTYPE=image/png:https://focus.neolife.com/wp-content/uploads/2026/03/Leadership-Live_us-EN_portrait-thumbnail.png
ORGANIZER;CN="NeoLife - North America":MAILTO:info@neolife.com
END:VEVENT
BEGIN:VEVENT
DTSTART;TZID=America/Los_Angeles:20261102T133000
DTEND;TZID=America/Los_Angeles:20261102T143000
DTSTAMP:20260420T084004
CREATED:20251006T225413Z
LAST-MODIFIED:20251007T024942Z
UID:10004008-1793626200-1793629800@focus.neolife.com
SUMMARY:Spanish Leadership LIVE
DESCRIPTION:Mondays (Lunes)\n1:30pm PT / 4:30pm ET \nZoom Meeting Link >>\nContraseña: neolife58!
URL:https://focus.neolife.com/calendar/spanish-leadership-live-3/2026-11-02/
CATEGORIES:North America,Recurring,United States
ATTACH;FMTTYPE=image/webp:https://focus.neolife.com/wp-content/uploads/2025/05/spanish-leadership-live.webp
END:VEVENT
END:VCALENDAR