BEGIN:VCALENDAR
VERSION:2.0
PRODID:-//NeoLife Focus - ECPv6.15.20//NONSGML v1.0//EN
CALSCALE:GREGORIAN
METHOD:PUBLISH
X-WR-CALNAME:NeoLife Focus
X-ORIGINAL-URL:https://focus.neolife.com
X-WR-CALDESC:Events for NeoLife Focus
REFRESH-INTERVAL;VALUE=DURATION:PT1H
X-Robots-Tag:noindex
X-PUBLISHED-TTL:PT1H
BEGIN:VTIMEZONE
TZID:America/Los_Angeles
BEGIN:DAYLIGHT
TZOFFSETFROM:-0800
TZOFFSETTO:-0700
TZNAME:PDT
DTSTART:20250309T100000
END:DAYLIGHT
BEGIN:STANDARD
TZOFFSETFROM:-0700
TZOFFSETTO:-0800
TZNAME:PST
DTSTART:20251102T090000
END:STANDARD
BEGIN:DAYLIGHT
TZOFFSETFROM:-0800
TZOFFSETTO:-0700
TZNAME:PDT
DTSTART:20260308T100000
END:DAYLIGHT
BEGIN:STANDARD
TZOFFSETFROM:-0700
TZOFFSETTO:-0800
TZNAME:PST
DTSTART:20261101T090000
END:STANDARD
BEGIN:DAYLIGHT
TZOFFSETFROM:-0800
TZOFFSETTO:-0700
TZNAME:PDT
DTSTART:20270314T100000
END:DAYLIGHT
BEGIN:STANDARD
TZOFFSETFROM:-0700
TZOFFSETTO:-0800
TZNAME:PST
DTSTART:20271107T090000
END:STANDARD
END:VTIMEZONE
BEGIN:VTIMEZONE
TZID:Australia/Brisbane
BEGIN:STANDARD
TZOFFSETFROM:+1000
TZOFFSETTO:+1000
TZNAME:AEST
DTSTART:20250101T000000
END:STANDARD
END:VTIMEZONE
BEGIN:VEVENT
DTSTART;VALUE=DATE:20260601
DTEND;VALUE=DATE:20260602
DTSTAMP:20260422T195108
CREATED:20260326T233137Z
LAST-MODIFIED:20260409T051233Z
UID:10004276-1780272000-1780358399@focus.neolife.com
SUMMARY:May Month End Close Day
DESCRIPTION:This is the last day of the sales month. \nAll Promoters\, World Team and President’s Team Members must finalise their orders and ensure they have their 100 Personal PV done by 12 midnight AEST. \nOrders processed after midnight AEST will count toward the following month. No exceptions will be made. \nMonth-End Close days can be found in the NeoLife News\, which is sent monthly via email\, and is also accessible through your Back Office. − When the last day of the calendar month is on a weekend or holiday\, Month-End Close Day will be the first business day in the next calendar month. \nNew sign-ups placed after Month-End Close Day will be processed in the following calendar month. \nBonus payments will be processed by the 8th business day of each month
URL:https://focus.neolife.com/calendar/may-month-end-close-day-2/
CATEGORIES:Australia,New Zealand
END:VEVENT
BEGIN:VEVENT
DTSTART;VALUE=DATE:20260615
DTEND;VALUE=DATE:20260616
DTSTAMP:20260422T195108
CREATED:20260331T002159Z
LAST-MODIFIED:20260331T002159Z
UID:10004306-1781481600-1781567999@focus.neolife.com
SUMMARY:NeoLife News email - check your Inbox!
DESCRIPTION:The “NeoLife News” monthly newsletter email is distributed on the 15th day of each month.
URL:https://focus.neolife.com/calendar/neolife-news-email-check-your-inbox/2026-06-15/
CATEGORIES:Australia,New Zealand
END:VEVENT
BEGIN:VEVENT
DTSTART;VALUE=DATE:20260630
DTEND;VALUE=DATE:20260701
DTSTAMP:20260422T195108
CREATED:20260326T233223Z
LAST-MODIFIED:20260409T051258Z
UID:10004277-1782777600-1782863999@focus.neolife.com
SUMMARY:June Month End Close Day
DESCRIPTION:This is the last day of the sales month. \nAll Promoters\, World Team and President’s Team Members must finalise their orders and ensure they have their 100 Personal PV done by 12 midnight AEST. \nOrders processed after midnight AEST will count toward the following month. No exceptions will be made. \nMonth-End Close days can be found in the NeoLife News\, which is sent monthly via email\, and is also accessible through your Back Office. − When the last day of the calendar month is on a weekend or holiday\, Month-End Close Day will be the first business day in the next calendar month. \nNew sign-ups placed after Month-End Close Day will be processed in the following calendar month. \nBonus payments will be processed by the 8th business day of each month
URL:https://focus.neolife.com/calendar/june-month-end-close-day-2/
CATEGORIES:Australia,New Zealand
END:VEVENT
END:VCALENDAR