BEGIN:VCALENDAR
VERSION:2.0
PRODID:-//NeoLife Focus - ECPv6.15.20//NONSGML v1.0//EN
CALSCALE:GREGORIAN
METHOD:PUBLISH
X-WR-CALNAME:NeoLife Focus
X-ORIGINAL-URL:https://focus.neolife.com
X-WR-CALDESC:Events for NeoLife Focus
REFRESH-INTERVAL;VALUE=DURATION:PT1H
X-Robots-Tag:noindex
X-PUBLISHED-TTL:PT1H
BEGIN:VTIMEZONE
TZID:Australia/Brisbane
BEGIN:STANDARD
TZOFFSETFROM:+1000
TZOFFSETTO:+1000
TZNAME:AEST
DTSTART:20250101T000000
END:STANDARD
END:VTIMEZONE
BEGIN:VTIMEZONE
TZID:Europe/Zagreb
BEGIN:DAYLIGHT
TZOFFSETFROM:+0100
TZOFFSETTO:+0200
TZNAME:CEST
DTSTART:20250330T010000
END:DAYLIGHT
BEGIN:STANDARD
TZOFFSETFROM:+0200
TZOFFSETTO:+0100
TZNAME:CET
DTSTART:20251026T010000
END:STANDARD
BEGIN:DAYLIGHT
TZOFFSETFROM:+0100
TZOFFSETTO:+0200
TZNAME:CEST
DTSTART:20260329T010000
END:DAYLIGHT
BEGIN:STANDARD
TZOFFSETFROM:+0200
TZOFFSETTO:+0100
TZNAME:CET
DTSTART:20261025T010000
END:STANDARD
BEGIN:DAYLIGHT
TZOFFSETFROM:+0100
TZOFFSETTO:+0200
TZNAME:CEST
DTSTART:20270328T010000
END:DAYLIGHT
BEGIN:STANDARD
TZOFFSETFROM:+0200
TZOFFSETTO:+0100
TZNAME:CET
DTSTART:20271031T010000
END:STANDARD
END:VTIMEZONE
BEGIN:VEVENT
DTSTART;VALUE=DATE:20260415
DTEND;VALUE=DATE:20260416
DTSTAMP:20260419T070049
CREATED:20260331T002159Z
LAST-MODIFIED:20260331T002159Z
UID:10004304-1776211200-1776297599@focus.neolife.com
SUMMARY:NeoLife News email - check your Inbox!
DESCRIPTION:The “NeoLife News” monthly newsletter email is distributed on the 15th day of each month.
URL:https://focus.neolife.com/calendar/neolife-news-email-check-your-inbox/2026-04-15/
CATEGORIES:Australia,New Zealand
END:VEVENT
BEGIN:VEVENT
DTSTART;TZID=Europe/Zagreb:20260415T190000
DTEND;TZID=Europe/Zagreb:20260415T210000
DTSTAMP:20260419T070049
CREATED:20260327T131024Z
LAST-MODIFIED:20260409T081457Z
UID:10004289-1776279600-1776286800@focus.neolife.com
SUMMARY:Business School with Ashley Peebles - Zagreb\, Croatia
DESCRIPTION:APRIL 2026: ASHLEY PEEBLES\, Vice President of Sales for NeoLife North America\, returns to Europe with a fantastic lineup of events: innovative and exciting business schools dedicated to all members\, offering new insights\, discussions\, and\, above all\, targeted training to help you focus on growth. With over fifteen years of experience in the world of direct sales\, Ashley is both an experienced and dynamic leader. We will be delighted to meet her and embrace her vision for growth. \nParticipation in the event is open to all Members: use the event to engage your group in sponsoring\, growth\, and\, of course\, high attendance. \n14 LJUBLJANA\n15 ZAGREB\, HOTEL ANTUNOVIĆ\, 7 PM\n16 SARAJEVO \nAn online webinar for NeoLife Romania Members is also scheduled. \nDON’T MISS THIS IMPORTANT MEETING!
URL:https://focus.neolife.com/calendar/business-school-with-ashley-peebles-5/
LOCATION:Hotel Antunović Zagreb\, Zagrebačka avenija 100a\, Zagreb\, 10090\, Croatia (Local Name: Hrvatska)
CATEGORIES:Croatia,Southeastern Europe
ATTACH;FMTTYPE=image/png:https://focus.neolife.com/wp-content/uploads/2026/03/2026-04-Ashley-Peebles_HR.png
END:VEVENT
END:VCALENDAR